BEGIN:VCALENDAR
VERSION:2.0
PRODID:-//www.gramonet.cz//GramonetCalLib 1.0//EN
CALSCALE:GREGORIAN
METHOD:PUBLISH
BEGIN:VEVENT
SUMMARY:Kluci ZND - křest alba
LOCATION:Společenský sál Hotelu Grand Čáslav
DTSTART:20241025T000000
DTEND:20241026T000000
UID:2026-04-19-19-33-54@infocaslav.cz
DTSTAMP:20260419T173354
Description:
END:VEVENT
END:VCALENDAR
