BEGIN:VCALENDAR
VERSION:2.0
PRODID:-//www.gramonet.cz//GramonetCalLib 1.0//EN
CALSCALE:GREGORIAN
METHOD:PUBLISH
BEGIN:VEVENT
SUMMARY:Knihadýlko - Dobrodružství pavouka Čendy
LOCATION:Městská knihovna Čáslav
DTSTART:20250217T000000
DTEND:20250218T000000
UID:2026-04-19-19-36-41@infocaslav.cz
DTSTAMP:20260419T173641
Description:
END:VEVENT
END:VCALENDAR
