BEGIN:VCALENDAR
VERSION:2.0
PRODID:-//www.gramonet.cz//GramonetCalLib 1.0//EN
CALSCALE:GREGORIAN
METHOD:PUBLISH
BEGIN:VEVENT
SUMMARY:Kocour v botách: Poslední přání
LOCATION:Kino
DTSTART:20230211T000000
DTEND:20230212T000000
UID:2026-04-19-19-34-24@infocaslav.cz
DTSTAMP:20260419T173424
Description:
END:VEVENT
END:VCALENDAR
