BEGIN:VCALENDAR
VERSION:2.0
PRODID:-//www.gramonet.cz//GramonetCalLib 1.0//EN
CALSCALE:GREGORIAN
METHOD:PUBLISH
BEGIN:VEVENT
SUMMARY:Komentovaná prohlídka židovského hřbitova v Čáslavi
LOCATION:Květinkafé, hřbitov Čáslav
DTSTART:20250615T000000
DTEND:20250616T000000
UID:2026-04-19-19-37-18@infocaslav.cz
DTSTAMP:20260419T173718
Description:
END:VEVENT
END:VCALENDAR
