BEGIN:VCALENDAR
VERSION:2.0
PRODID:-//www.gramonet.cz//GramonetCalLib 1.0//EN
CALSCALE:GREGORIAN
METHOD:PUBLISH
BEGIN:VEVENT
SUMMARY:Komentovaná prohlídka židovského hřbitova v Čáslavi
LOCATION:Chotusická 439/30, Čáslav
DTSTART:20250316T000000
DTEND:20250317T000000
UID:2026-04-19-19-37-19@infocaslav.cz
DTSTAMP:20260419T173719
Description:
END:VEVENT
END:VCALENDAR
