BEGIN:VCALENDAR
VERSION:2.0
PRODID:-//www.gramonet.cz//GramonetCalLib 1.0//EN
CALSCALE:GREGORIAN
METHOD:PUBLISH
BEGIN:VEVENT
SUMMARY:Komiks jako cesta ke čtenáři
LOCATION:Gymnázium a Střední odborná škola pedagogická Čáslav, Masa
 rykova 248/24
DTSTART:20220505T000000
DTEND:20220506T000000
UID:2026-04-19-19-36-10@infocaslav.cz
DTSTAMP:20260419T173610
Description:
END:VEVENT
END:VCALENDAR
