BEGIN:VCALENDAR
VERSION:2.0
PRODID:-//www.gramonet.cz//GramonetCalLib 1.0//EN
CALSCALE:GREGORIAN
METHOD:PUBLISH
BEGIN:VEVENT
SUMMARY:Komiksová výstava - MORČATA V AKCI
LOCATION:Knihovna
DTSTART:20230313T000000
DTEND:20230401T000000
UID:2026-04-19-19-36-05@infocaslav.cz
DTSTAMP:20260419T173605
Description:
END:VEVENT
END:VCALENDAR
