BEGIN:VCALENDAR
VERSION:2.0
PRODID:-//www.gramonet.cz//GramonetCalLib 1.0//EN
CALSCALE:GREGORIAN
METHOD:PUBLISH
BEGIN:VEVENT
SUMMARY:Komorní letní kino
LOCATION:U dvou přátel, Masarykova 194/36
DTSTART:20220724T000000
DTEND:20220725T000000
UID:2026-04-19-19-34-47@infocaslav.cz
DTSTAMP:20260419T173447
Description:
END:VEVENT
END:VCALENDAR
