BEGIN:VCALENDAR
VERSION:2.0
PRODID:-//www.gramonet.cz//GramonetCalLib 1.0//EN
CALSCALE:GREGORIAN
METHOD:PUBLISH
BEGIN:VEVENT
SUMMARY:Naďa Válová, Díky Vám
LOCATION:Kutná Hora zahrady Gask, vodní podium
DTSTART:20240719T000000
DTEND:20240720T000000
UID:2026-04-19-19-34-21@infocaslav.cz
DTSTAMP:20260419T173421
Description:Koncert Naďa Válová\, Díky Vám se uskuteční 19. červenc
 e 2024 v Kutná Hoře\, zahrady Gask vodní podium.
END:VEVENT
END:VCALENDAR
