BEGIN:VCALENDAR
VERSION:2.0
PRODID:-//www.gramonet.cz//GramonetCalLib 1.0//EN
CALSCALE:GREGORIAN
METHOD:PUBLISH
BEGIN:VEVENT
SUMMARY:Koncert 23 - Martin Brdečko
LOCATION:Janova čajovna Čáslav
DTSTART:20250201T000000
DTEND:20250202T000000
UID:2026-04-19-19-31-24@infocaslav.cz
DTSTAMP:20260419T173124
Description:
END:VEVENT
END:VCALENDAR
