BEGIN:VCALENDAR
VERSION:2.0
PRODID:-//www.gramonet.cz//GramonetCalLib 1.0//EN
CALSCALE:GREGORIAN
METHOD:PUBLISH
BEGIN:VEVENT
SUMMARY:Koncert AIDY MUJAVIČ
LOCATION:Synagoga
DTSTART:20240828T000000
DTEND:20240829T000000
UID:2026-04-19-19-32-15@infocaslav.cz
DTSTAMP:20260419T173215
Description:S lítostí musíme oznámit\, že koncert je zrušen z důvodu
  tragické události v rodině zpěvačky.
END:VEVENT
END:VCALENDAR
