BEGIN:VCALENDAR
VERSION:2.0
PRODID:-//www.gramonet.cz//GramonetCalLib 1.0//EN
CALSCALE:GREGORIAN
METHOD:PUBLISH
BEGIN:VEVENT
SUMMARY:Koncert duchovní hudby
LOCATION:Kostel sv. Jakuba v Jakubě
DTSTART:20231210T000000
DTEND:20231211T000000
UID:2026-04-19-21-05-36@infocaslav.cz
DTSTAMP:20260419T190536
Description:
END:VEVENT
END:VCALENDAR
