BEGIN:VCALENDAR
VERSION:2.0
PRODID:-//www.gramonet.cz//GramonetCalLib 1.0//EN
CALSCALE:GREGORIAN
METHOD:PUBLISH
BEGIN:VEVENT
SUMMARY:Koncert duchovní hudby
LOCATION:kostel sv. Bonifáce
DTSTART:20221210T000000
DTEND:20221211T000000
UID:2026-04-19-19-33-01@infocaslav.cz
DTSTAMP:20260419T173301
Description:
END:VEVENT
END:VCALENDAR
