BEGIN:VCALENDAR
VERSION:2.0
PRODID:-//www.gramonet.cz//GramonetCalLib 1.0//EN
CALSCALE:GREGORIAN
METHOD:PUBLISH
BEGIN:VEVENT
SUMMARY:Koncert Jaroslava Svěceného a Lucie Karlové
LOCATION:Uhlířské Janovice
DTSTART:20240524T000000
DTEND:20240525T000000
UID:2026-04-19-21-22-18@infocaslav.cz
DTSTAMP:20260419T192218
Description:
END:VEVENT
END:VCALENDAR
