BEGIN:VCALENDAR
VERSION:2.0
PRODID:-//www.gramonet.cz//GramonetCalLib 1.0//EN
CALSCALE:GREGORIAN
METHOD:PUBLISH
BEGIN:VEVENT
SUMMARY:Koncert klasické komorní hudby
LOCATION:Dusíkovo divadlo - Nová scéna
DTSTART:20241204T000000
DTEND:20241205T000000
UID:2026-04-19-19-35-50@infocaslav.cz
DTSTAMP:20260419T173550
Description:
END:VEVENT
END:VCALENDAR
