BEGIN:VCALENDAR
VERSION:2.0
PRODID:-//www.gramonet.cz//GramonetCalLib 1.0//EN
CALSCALE:GREGORIAN
METHOD:PUBLISH
BEGIN:VEVENT
SUMMARY:Koncert komorní hudby
LOCATION:Nová scéna Dusíkova divadla Čáslav
DTSTART:20260520T000000
DTEND:20260521T000000
UID:2026-04-19-19-26-35@infocaslav.cz
DTSTAMP:20260419T172635
Description:
END:VEVENT
END:VCALENDAR
