BEGIN:VCALENDAR
VERSION:2.0
PRODID:-//www.gramonet.cz//GramonetCalLib 1.0//EN
CALSCALE:GREGORIAN
METHOD:PUBLISH
BEGIN:VEVENT
SUMMARY:Koncert německo/českého dua Jesse Ballard & Joe Kučera
LOCATION:Gumárna, K. Pazderského 2045
DTSTART:20220614T000000
DTEND:20220615T000000
UID:2026-04-19-19-37-30@infocaslav.cz
DTSTAMP:20260419T173730
Description:
END:VEVENT
END:VCALENDAR
