BEGIN:VCALENDAR
VERSION:2.0
PRODID:-//www.gramonet.cz//GramonetCalLib 1.0//EN
CALSCALE:GREGORIAN
METHOD:PUBLISH
BEGIN:VEVENT
SUMMARY:Koncert při příležitosti zahájení slavností znovuotevření 
 Dusíkova divadla
LOCATION:Dusíkovo divadlo Čáslav, Masarykova 194/36
DTSTART:20220311T000000
DTEND:20220312T000000
UID:2026-04-19-19-37-16@infocaslav.cz
DTSTAMP:20260419T173716
Description:
END:VEVENT
END:VCALENDAR
