BEGIN:VCALENDAR
VERSION:2.0
PRODID:-//www.gramonet.cz//GramonetCalLib 1.0//EN
CALSCALE:GREGORIAN
METHOD:PUBLISH
BEGIN:VEVENT
SUMMARY:Koncert s Betlémským světlem
LOCATION:Nám. J. Ž. z Trocnova, Čáslav
DTSTART:20251223T000000
DTEND:20251224T000000
UID:2026-04-19-19-26-43@infocaslav.cz
DTSTAMP:20260419T172643
Description:
END:VEVENT
END:VCALENDAR
