BEGIN:VCALENDAR
VERSION:2.0
PRODID:-//www.gramonet.cz//GramonetCalLib 1.0//EN
CALSCALE:GREGORIAN
METHOD:PUBLISH
BEGIN:VEVENT
SUMMARY:Kouzelné Vánoce
LOCATION:zahradní centrum Hortis
DTSTART:20231125T000000
DTEND:20231126T000000
UID:2026-04-19-19-30-53@infocaslav.cz
DTSTAMP:20260419T173053
Description:
END:VEVENT
END:VCALENDAR
