BEGIN:VCALENDAR
VERSION:2.0
PRODID:-//www.gramonet.cz//GramonetCalLib 1.0//EN
CALSCALE:GREGORIAN
METHOD:PUBLISH
BEGIN:VEVENT
SUMMARY:Kouzlo vánočních ozdob
LOCATION:Výstavní síň městského muzea Čáslav
DTSTART:20251119T000000
DTEND:20260105T000000
UID:2026-04-19-19-33-25@infocaslav.cz
DTSTAMP:20260419T173325
Description:
END:VEVENT
END:VCALENDAR
