BEGIN:VCALENDAR
VERSION:2.0
PRODID:-//www.gramonet.cz//GramonetCalLib 1.0//EN
CALSCALE:GREGORIAN
METHOD:PUBLISH
BEGIN:VEVENT
SUMMARY:Krabice od bot
LOCATION:Evangelická fara
DTSTART:20221127T000000
DTEND:20221205T000000
UID:2026-04-19-21-02-21@infocaslav.cz
DTSTAMP:20260419T190221
Description:
END:VEVENT
END:VCALENDAR
