BEGIN:VCALENDAR
VERSION:2.0
PRODID:-//www.gramonet.cz//GramonetCalLib 1.0//EN
CALSCALE:GREGORIAN
METHOD:PUBLISH
BEGIN:VEVENT
SUMMARY:Krajské vinobraní a dožínky na Kačině
LOCATION:Kačina
DTSTART:20230909T000000
DTEND:20230910T000000
UID:2026-04-19-21-08-00@infocaslav.cz
DTSTAMP:20260419T190800
Description:
END:VEVENT
END:VCALENDAR
