BEGIN:VCALENDAR
VERSION:2.0
PRODID:-//www.gramonet.cz//GramonetCalLib 1.0//EN
CALSCALE:GREGORIAN
METHOD:PUBLISH
BEGIN:VEVENT
SUMMARY:Královská Čáslav brána do středověku
LOCATION:Otakarova bašta Čáslav
DTSTART:20250830T000000
DTEND:20250831T000000
UID:2026-04-19-21-08-34@infocaslav.cz
DTSTAMP:20260419T190834
Description:
END:VEVENT
END:VCALENDAR
