BEGIN:VCALENDAR
VERSION:2.0
PRODID:-//www.gramonet.cz//GramonetCalLib 1.0//EN
CALSCALE:GREGORIAN
METHOD:PUBLISH
BEGIN:VEVENT
SUMMARY:Královská Čáslav otevírá své brány
LOCATION:Otakarova bašta
DTSTART:20230506T000000
DTEND:20230507T000000
UID:2026-04-19-21-14-17@infocaslav.cz
DTSTAMP:20260419T191417
Description:
END:VEVENT
END:VCALENDAR
