BEGIN:VCALENDAR
VERSION:2.0
PRODID:-//www.gramonet.cz//GramonetCalLib 1.0//EN
CALSCALE:GREGORIAN
METHOD:PUBLISH
BEGIN:VEVENT
SUMMARY:Krchlebská věž
LOCATION:Krchleby u Čáslavi
DTSTART:20240611T000000
DTEND:20240612T000000
UID:2026-04-19-19-31-02@infocaslav.cz
DTSTAMP:20260419T173102
Description:Dne 11. června 2024 Vás zveme na jednadvacátý ročník záv
 odu ve výstupu do čtvrtého podlaží cvičné věže pomocí jednoháko
 vého žebříku. Akce se koná od 9 hodin v Krchlebech u Čáslavi.
END:VEVENT
END:VCALENDAR
