BEGIN:VCALENDAR
VERSION:2.0
PRODID:-//www.gramonet.cz//GramonetCalLib 1.0//EN
CALSCALE:GREGORIAN
METHOD:PUBLISH
BEGIN:VEVENT
SUMMARY:Křest knihy - Na kameni kámen
LOCATION:Synagoga v Čáslavi
DTSTART:20250309T000000
DTEND:20250310T000000
UID:2026-04-19-19-36-18@infocaslav.cz
DTSTAMP:20260419T173618
Description:
END:VEVENT
END:VCALENDAR
