BEGIN:VCALENDAR
VERSION:2.0
PRODID:-//www.gramonet.cz//GramonetCalLib 1.0//EN
CALSCALE:GREGORIAN
METHOD:PUBLISH
BEGIN:VEVENT
SUMMARY:Křest knihy Přežil jsem zajetí v carském Rusku
LOCATION:Synagoga
DTSTART:20250622T000000
DTEND:20250623T000000
UID:2026-04-19-19-37-17@infocaslav.cz
DTSTAMP:20260419T173717
Description:Pozvánka na křest knihy Přežil jsem zajetí v carském Rusk
 u a besedu s její autorkou.
END:VEVENT
END:VCALENDAR
