BEGIN:VCALENDAR
VERSION:2.0
PRODID:-//www.gramonet.cz//GramonetCalLib 1.0//EN
CALSCALE:GREGORIAN
METHOD:PUBLISH
BEGIN:VEVENT
SUMMARY:Kultura pod hvězdami - Čas růží
LOCATION:Zámek Kačina
DTSTART:20240809T000000
DTEND:20240810T000000
UID:2026-04-19-19-36-46@infocaslav.cz
DTSTAMP:20260419T173646
Description:
END:VEVENT
END:VCALENDAR
