BEGIN:VCALENDAR
VERSION:2.0
PRODID:-//www.gramonet.cz//GramonetCalLib 1.0//EN
CALSCALE:GREGORIAN
METHOD:PUBLISH
BEGIN:VEVENT
SUMMARY:KURZ ABECEDA KŘESŤANSKÉ VÍRY
LOCATION:Farní sbor Českobratrské církve evangelické v Čáslavi, Jana
  Karafiáta 159/16
DTSTART:20220511T000000
DTEND:20220512T000000
UID:2026-04-19-19-34-30@infocaslav.cz
DTSTAMP:20260419T173430
Description:
END:VEVENT
END:VCALENDAR
