BEGIN:VCALENDAR
VERSION:2.0
PRODID:-//www.gramonet.cz//GramonetCalLib 1.0//EN
CALSCALE:GREGORIAN
METHOD:PUBLISH
BEGIN:VEVENT
SUMMARY:KURZ ABECEDA KŘESŤANSKÉ VÍRY
LOCATION:Bašta za evangelickým kostelem, Jana Karafiáta 158
DTSTART:20220504T000000
DTEND:20220505T000000
UID:2026-04-19-21-05-36@infocaslav.cz
DTSTAMP:20260419T190536
Description:
END:VEVENT
END:VCALENDAR
