BEGIN:VCALENDAR
VERSION:2.0
PRODID:-//www.gramonet.cz//GramonetCalLib 1.0//EN
CALSCALE:GREGORIAN
METHOD:PUBLISH
BEGIN:VEVENT
SUMMARY:Kurz tečkování
LOCATION:DDM, Jeníkovská 222
DTSTART:20220327T000000
DTEND:20220328T000000
UID:2026-04-19-19-31-21@infocaslav.cz
DTSTAMP:20260419T173121
Description:
END:VEVENT
END:VCALENDAR
