BEGIN:VCALENDAR
VERSION:2.0
PRODID:-//www.gramonet.cz//GramonetCalLib 1.0//EN
CALSCALE:GREGORIAN
METHOD:PUBLISH
BEGIN:VEVENT
SUMMARY:Kutnohorští havíři  - 15. ročník pochodu
LOCATION:Čáslav
DTSTART:20250531T000000
DTEND:20250601T000000
UID:2026-04-19-21-00-11@infocaslav.cz
DTSTAMP:20260419T190011
Description:
END:VEVENT
END:VCALENDAR
