BEGIN:VCALENDAR
VERSION:2.0
PRODID:-//www.gramonet.cz//GramonetCalLib 1.0//EN
CALSCALE:GREGORIAN
METHOD:PUBLISH
BEGIN:VEVENT
SUMMARY:Květen 1945 v Čáslavi
LOCATION:Nová scéna Dusíkova divadla Čáslav
DTSTART:20250520T000000
DTEND:20250521T000000
UID:2026-04-19-21-07-11@infocaslav.cz
DTSTAMP:20260419T190711
Description:
END:VEVENT
END:VCALENDAR
