BEGIN:VCALENDAR
VERSION:2.0
PRODID:-//www.gramonet.cz//GramonetCalLib 1.0//EN
CALSCALE:GREGORIAN
METHOD:PUBLISH
BEGIN:VEVENT
SUMMARY:Láska prochází žaludkem
LOCATION:Rodinné centrum Kopretina Čáslav
DTSTART:20250211T000000
DTEND:20250212T000000
UID:2026-04-19-19-35-49@infocaslav.cz
DTSTAMP:20260419T173549
Description:
END:VEVENT
END:VCALENDAR
