BEGIN:VCALENDAR
VERSION:2.0
PRODID:-//www.gramonet.cz//GramonetCalLib 1.0//EN
CALSCALE:GREGORIAN
METHOD:PUBLISH
BEGIN:VEVENT
SUMMARY:LET ČÁSLAVÍ - architektura II.
LOCATION:náměstí Jana Žižky
DTSTART:20220527T000000
DTEND:20220528T000000
UID:2026-04-19-19-31-14@infocaslav.cz
DTSTAMP:20260419T173114
Description:
END:VEVENT
END:VCALENDAR
