BEGIN:VCALENDAR
VERSION:2.0
PRODID:-//www.gramonet.cz//GramonetCalLib 1.0//EN
CALSCALE:GREGORIAN
METHOD:PUBLISH
BEGIN:VEVENT
SUMMARY:LET ČÁSLAVÍ
LOCATION:náměstí Jana Žižky
DTSTART:20220506T000000
DTEND:20220507T000000
UID:2026-04-19-19-29-34@infocaslav.cz
DTSTAMP:20260419T172934
Description:
END:VEVENT
END:VCALENDAR
