BEGIN:VCALENDAR
VERSION:2.0
PRODID:-//www.gramonet.cz//GramonetCalLib 1.0//EN
CALSCALE:GREGORIAN
METHOD:PUBLISH
BEGIN:VEVENT
SUMMARY:Letní Grilovačka v Gumárně
LOCATION:Gumárna, K. Pazderského 2045
DTSTART:20220619T000000
DTEND:20220620T000000
UID:2026-04-19-21-06-09@infocaslav.cz
DTSTAMP:20260419T190609
Description:
END:VEVENT
END:VCALENDAR
