BEGIN:VCALENDAR
VERSION:2.0
PRODID:-//www.gramonet.cz//GramonetCalLib 1.0//EN
CALSCALE:GREGORIAN
METHOD:PUBLISH
BEGIN:VEVENT
SUMMARY:Letní kino Vinaře
LOCATION:Vinaře u Čáslavi - Staré hřiště
DTSTART:20250705T000000
DTEND:20250824T000000
UID:2026-04-19-19-33-07@infocaslav.cz
DTSTAMP:20260419T173307
Description:
END:VEVENT
END:VCALENDAR
