BEGIN:VCALENDAR
VERSION:2.0
PRODID:-//www.gramonet.cz//GramonetCalLib 1.0//EN
CALSCALE:GREGORIAN
METHOD:PUBLISH
BEGIN:VEVENT
SUMMARY:Letní pozorování hvězd
LOCATION:Nádvoří hradu Lichnice
DTSTART:20240724T000000
DTEND:20240725T000000
UID:2026-04-19-19-35-56@infocaslav.cz
DTSTAMP:20260419T173556
Description:Vychutnejte si letní pozorování hvězd na nádvoří hradu L
 ichnice dne 24.07. 2024 od 21 hod s doprovodným výkladem zkušeného ast
 rofotografa\, popularizátora astronomie Petra Horálka.
END:VEVENT
END:VCALENDAR
