BEGIN:VCALENDAR
VERSION:2.0
PRODID:-//www.gramonet.cz//GramonetCalLib 1.0//EN
CALSCALE:GREGORIAN
METHOD:PUBLISH
BEGIN:VEVENT
SUMMARY:Linorytový workshop
LOCATION:Galerie MMaK
DTSTART:20230304T000000
DTEND:20230305T000000
UID:2026-04-19-19-29-43@infocaslav.cz
DTSTAMP:20260419T172943
Description:
END:VEVENT
END:VCALENDAR
