BEGIN:VCALENDAR
VERSION:2.0
PRODID:-//www.gramonet.cz//GramonetCalLib 1.0//EN
CALSCALE:GREGORIAN
METHOD:PUBLISH
BEGIN:VEVENT
SUMMARY:Liščata
LOCATION:Knihovna
DTSTART:20220615T000000
DTEND:20230101T000000
UID:2026-04-19-21-02-16@infocaslav.cz
DTSTAMP:20260419T190216
Description:
END:VEVENT
END:VCALENDAR
