BEGIN:VCALENDAR
VERSION:2.0
PRODID:-//www.gramonet.cz//GramonetCalLib 1.0//EN
CALSCALE:GREGORIAN
METHOD:PUBLISH
BEGIN:VEVENT
SUMMARY:Live music Friday
LOCATION:Klub Gumárna
DTSTART:20220812T000000
DTEND:20220813T000000
UID:2026-04-19-19-31-23@infocaslav.cz
DTSTAMP:20260419T173123
Description:
END:VEVENT
END:VCALENDAR
