BEGIN:VCALENDAR
VERSION:2.0
PRODID:-//www.gramonet.cz//GramonetCalLib 1.0//EN
CALSCALE:GREGORIAN
METHOD:PUBLISH
BEGIN:VEVENT
SUMMARY:Live Music Friday - BAZAR BAND
LOCATION:Gumárna
DTSTART:20221014T000000
DTEND:20221015T000000
UID:2026-04-19-19-34-43@infocaslav.cz
DTSTAMP:20260419T173443
Description:
END:VEVENT
END:VCALENDAR
