BEGIN:VCALENDAR
VERSION:2.0
PRODID:-//www.gramonet.cz//GramonetCalLib 1.0//EN
CALSCALE:GREGORIAN
METHOD:PUBLISH
BEGIN:VEVENT
SUMMARY:Live Music Friday - Tomáš Polman
LOCATION:Gumárna, K. Pazderského 2045
DTSTART:20220715T000000
DTEND:20220716T000000
UID:2026-04-19-19-35-47@infocaslav.cz
DTSTAMP:20260419T173547
Description:
END:VEVENT
END:VCALENDAR
