BEGIN:VCALENDAR
VERSION:2.0
PRODID:-//www.gramonet.cz//GramonetCalLib 1.0//EN
CALSCALE:GREGORIAN
METHOD:PUBLISH
BEGIN:VEVENT
SUMMARY:Lollipopz Rainbow Show v Čáslavi
LOCATION:Hotel Grand Čáslav
DTSTART:20251003T000000
DTEND:20251004T000000
UID:2026-04-19-19-26-51@infocaslav.cz
DTSTAMP:20260419T172651
Description:
END:VEVENT
END:VCALENDAR
