BEGIN:VCALENDAR
VERSION:2.0
PRODID:-//www.gramonet.cz//GramonetCalLib 1.0//EN
CALSCALE:GREGORIAN
METHOD:PUBLISH
BEGIN:VEVENT
SUMMARY:LOLLIPOPZ - VELKÁ SHOW
LOCATION:hotel Grand
DTSTART:20230218T000000
DTEND:20230219T000000
UID:2026-04-19-19-34-03@infocaslav.cz
DTSTAMP:20260419T173403
Description:
END:VEVENT
END:VCALENDAR
