BEGIN:VCALENDAR
VERSION:2.0
PRODID:-//www.gramonet.cz//GramonetCalLib 1.0//EN
CALSCALE:GREGORIAN
METHOD:PUBLISH
BEGIN:VEVENT
SUMMARY:LOUČENÍ SE ŠKOLNÍM ROKEM
LOCATION:Rodinné centrum Kopretina, Kostelní náměstí 186/2
DTSTART:20220623T000000
DTEND:20220624T000000
UID:2026-04-19-19-35-20@infocaslav.cz
DTSTAMP:20260419T173520
Description:
END:VEVENT
END:VCALENDAR
