BEGIN:VCALENDAR
VERSION:2.0
PRODID:-//www.gramonet.cz//GramonetCalLib 1.0//EN
CALSCALE:GREGORIAN
METHOD:PUBLISH
BEGIN:VEVENT
SUMMARY:Loutkové divadlo - O pyšném mlynáři
LOCATION:Evangelická fara v Čáslavi
DTSTART:20240512T000000
DTEND:20240513T000000
UID:2026-04-19-19-36-50@infocaslav.cz
DTSTAMP:20260419T173650
Description:
END:VEVENT
END:VCALENDAR
