BEGIN:VCALENDAR
VERSION:2.0
PRODID:-//www.gramonet.cz//GramonetCalLib 1.0//EN
CALSCALE:GREGORIAN
METHOD:PUBLISH
BEGIN:VEVENT
SUMMARY:LOV NA LOSA
LOCATION:Dusíkovo divadlo
DTSTART:20230517T000000
DTEND:20230518T000000
UID:2026-04-19-19-30-54@infocaslav.cz
DTSTAMP:20260419T173054
Description:
END:VEVENT
END:VCALENDAR
